BEGIN:VCALENDAR
VERSION:2.0
PRODID:-//eventon.com NONSGML v1.0//EN
CALSCALE:GREGORIAN
METHOD:PUBLISH
BEGIN:VEVENT
UID:69e6006538dcb
DTSTAMP:20260420T103101Z
DTSTART:20220504T180000Z
DTEND:20220504T215900Z
LOCATION:Teatro alla Scala Milan Via Filodrammatici 2\,  20121 Milan MI\,  Italy
SUMMARY:Un Ballo in Maschera
DESCRIPTION:Tickets for the Opera Un Ballo in Maschera at Teatro alla Scala
  in Milan\,  from 4 to 22 May 2022 The opera in three acts Un Ballo in Masc
 hera by Giuseppe Verdi will be conducted by world-famous conductor Riccardo
  Chailly. The opera is based on a true story. It is[..]\nhttps://ticketsope
 ramilan.com/tickets-and-events/tickets-opera-un-ballo-in-mascher-milan-scal
 a/
URL:https://ticketsoperamilan.com/tickets-and-events/tickets-opera-un-ballo-in-mascher-milan-scala/
END:VEVENT
END:VCALENDAR