BEGIN:VCALENDAR
VERSION:2.0
PRODID:-//eventon.com NONSGML v1.0//EN
CALSCALE:GREGORIAN
METHOD:PUBLISH
BEGIN:VEVENT
UID:69ea40a068fea
DTSTAMP:20260423T155408Z
DTSTART:20241218T190000Z
DTEND:20241218T225900Z
LOCATION:Teatro alla Scala Milan Via Filodrammatici 2\,  20121 Milan MI\,  Italy
SUMMARY:The Nutcracker
DESCRIPTION:Tickets for the ballet The Nutcracker (Lo Schiaccianoci) at Tea
 tro alla Scala 2024 &#8211; 2025 The expressive dance season at La Scala in
  Milan begins with the expressive dance The Nutcracker (Lo Schiaccinoci). I
 t is likewise a praise to the extraordinary artist and choreographer Rudolf
  Nureyev\,  on the 30th commemoration[..]\nhttps://ticketsoperamilan.com/ti
 ckets-and-events/tickets-the-nutcracker-ballet-milan-scala/
URL:https://ticketsoperamilan.com/tickets-and-events/tickets-the-nutcracker-ballet-milan-scala/
END:VEVENT
END:VCALENDAR