BEGIN:VCALENDAR
VERSION:2.0
PRODID:-//eventon.com NONSGML v1.0//EN
CALSCALE:GREGORIAN
METHOD:PUBLISH
BEGIN:VEVENT
UID:69ea37b38c693
DTSTAMP:20260423T151603Z
DTSTART:20221105T190000Z
DTEND:20221105T225000Z
LOCATION:Teatro alla Scala Milan Via Filodrammatici 2\,  20121 Milan MI\,  Italy
SUMMARY:The Tempest
DESCRIPTION:Tickets for The Tempest Opera at Teatro alla Scala in Milan 202
 2 The show The Tempest by the writer Thomas Adès with the lyrics by Meredi
 th Oakes will be performed at La Scala in Milan on November 18\,  2022. The
  show in three demonstrations bases on the stage play The[..]\nhttps://tick
 etsoperamilan.com/tickets-and-events/tickets-the-tempest-opera-scala-milan/
URL:https://ticketsoperamilan.com/tickets-and-events/tickets-the-tempest-opera-scala-milan/
END:VEVENT
END:VCALENDAR