BEGIN:VCALENDAR
VERSION:2.0
PRODID:-//eventon.com NONSGML v1.0//EN
CALSCALE:GREGORIAN
METHOD:PUBLISH
BEGIN:VEVENT
UID:69e5e9aa30855
DTSTAMP:20260420T085402Z
DTSTART:20231217T190000Z
DTEND:20231217T225000Z
LOCATION:Teatro alla Scala Milan Via Filodrammatici 2\,  20121 Milan MI\,  Italy
SUMMARY:Coppélia
DESCRIPTION:Tickets for Coppélia Ballet at Teatro alla Scala in Milan 2023
  Experience the enchantment of the classic ballet &#8220;Coppélia&#8221; a
 t the prestigious Teatro alla Scala in Milan! Join us for a captivating eve
 ning of dance and storytelling\,  as interpreted by the renowned choreograp
 her Alexei Ratmansky. &#8220;Coppélia&#8221; is a delightful and[..]\nhttp
 s://ticketsoperamilan.com/tickets-and-events/coppelia-scala-milan-tickets/
URL:https://ticketsoperamilan.com/tickets-and-events/coppelia-scala-milan-tickets/
END:VEVENT
END:VCALENDAR