BEGIN:VCALENDAR
VERSION:2.0
PRODID:-//eventon.com NONSGML v1.0//EN
CALSCALE:GREGORIAN
METHOD:PUBLISH
BEGIN:VEVENT
UID:69ea410d91046
DTSTAMP:20260423T155557Z
DTSTART:20250425T193000Z
DTEND:20250425T215900Z
LOCATION:Under The Grand Chapiteau Milan Viale Italia 576\,  20099 Sesto San Giovanni\,  Milan
SUMMARY:Cirque du Soleil Milan
DESCRIPTION:Tickets for Cirque du Soleil Milan 2025 Get ready to experience
  the magic of Cirque du Soleil’s &#8220;Alegría&#8221; in Milan in 2025!
  Tickets for this extraordinary show are now on sale\,  and you won’t wan
 t to miss out on this spectacular event under the magnificent Under The Gra
 nd Chapiteau. &#8220;Alegría&#8221;[..]\nhttps://ticketsoperamilan.com/tic
 kets-and-events/cirque-du-soleil-alegria-milan-tickets/
URL:https://ticketsoperamilan.com/tickets-and-events/cirque-du-soleil-alegria-milan-tickets/
END:VEVENT
END:VCALENDAR