BEGIN:VCALENDAR
VERSION:2.0
PRODID:-//eventon.com NONSGML v1.0//EN
CALSCALE:GREGORIAN
METHOD:PUBLISH
BEGIN:VEVENT
UID:69ea443741916
DTSTAMP:20260423T160927Z
DTSTART:20250611T180000Z
DTEND:20250611T215900Z
LOCATION:Teatro alla Scala Milan Via Filodrammatici 2\,  20121 Milan MI\,  Italy
SUMMARY:Paquita
DESCRIPTION:Tickets for Paquita Ballet at Teatro alla Scala 2025 From June 
 11 to 26\,  2025\,  the magnificent stage of Teatro alla Scala in Milan wil
 l come alive with the grace and splendor of Paquita\,  a gem of classical b
 allet. Choreographed by Pierre Lacotte\,  this production revives the origi
 nal version that[..]\nhttps://ticketsoperamilan.com/tickets-and-events/paqu
 ita-ballet-milan-teatro-alla-scala-tickets/
URL:https://ticketsoperamilan.com/tickets-and-events/paquita-ballet-milan-teatro-alla-scala-tickets/
END:VEVENT
END:VCALENDAR