BEGIN:VCALENDAR
VERSION:2.0
PRODID:-//eventon.com NONSGML v1.0//EN
CALSCALE:GREGORIAN
METHOD:PUBLISH
BEGIN:VEVENT
UID:69e5e6bf464ff
DTSTAMP:20260420T084135Z
DTSTART:20260107T200000Z
DTEND:20260107T220000Z
LOCATION:Teatro alla Scala Milan Via Filodrammatici 2\,  20121 Milan MI\,  Italy
SUMMARY:The Sleeping Beauty
DESCRIPTION:The Sleeping Beauty – Rudolf Nureyev (La Bella Addormentata n
 el Bosco) Teatro alla Scala\,  Milan\,  18 December 2025 – 13 January 202
 6 Experience the timeless magic of The Sleeping Beauty at Teatro alla Scala
 \,  in the unforgettable version by Rudolf Nureyev\,  one of ballet’s gre
 atest legends. Set to the magnificent[..]\nhttps://ticketsoperamilan.com/ti
 ckets-and-events/the-sleeping-beauty-tickets/
URL:https://ticketsoperamilan.com/tickets-and-events/the-sleeping-beauty-tickets/
END:VEVENT
END:VCALENDAR