BEGIN:VCALENDAR
VERSION:2.0
PRODID:-//eventon.com NONSGML v1.0//EN
CALSCALE:GREGORIAN
METHOD:PUBLISH
BEGIN:VEVENT
UID:69e6ea9483626
DTSTAMP:20260421T031012Z
DTSTART:20251210T200000Z
DTEND:20251210T220000Z
LOCATION:Teatro alla Scala Milan Via Filodrammatici 2\,  20121 Milan MI\,  Italy
SUMMARY:Lady Macbeth of the Mtsensk District
DESCRIPTION:🎭 Lady Macbeth of the Mtsensk District – Teatro alla Scala
 \,  Milano 2025 Teatro alla Scala\,  Milan\,  10–30 December 2025 | New P
 roduction Experience one of the most powerful and controversial operas of t
 he 20th century at Teatro alla Scala. On the 50th anniversary of Dmitrij Š
 ostakovič’s death\,  La Scala[..]\nhttps://ticketsoperamilan.com/tickets
 -and-events/lady-macbeth-of-the-mtsensk-district-opera-teatro-alla-scala-mi
 lan-tickets/
URL:https://ticketsoperamilan.com/tickets-and-events/lady-macbeth-of-the-mtsensk-district-opera-teatro-alla-scala-milan-tickets/
END:VEVENT
END:VCALENDAR