BEGIN:VCALENDAR
VERSION:2.0
PRODID:-//eventon.com NONSGML v1.0//EN
CALSCALE:GREGORIAN
METHOD:PUBLISH
BEGIN:VEVENT
UID:69e7a6d1a80ce
DTSTAMP:20260421T163321Z
DTSTART:20260508T210000Z
DTEND:20260508T230000Z
LOCATION:Teatro dal Verme Milan Via S. Giovanni sul Muro\,  2\,  20121 Milano MI\,  Italy
SUMMARY:Ennio Morricone Tribute Milan
DESCRIPTION:Tickets for Ennio Morricone Tribute at Teatro dal Verme in Mila
 n 2026 Immerse yourself in a magical night filled with emotion and nostalgi
 a with the spectacular tribute to Ennio Morricone performed by the renowned
  Ensemble Symphony Orchestra under the direction of the acclaimed Maestro G
 iacomo Loprieno. Date: 14.01.2025 Venue: Teatro[..]\nhttps://ticketsoperami
 lan.com/tickets-and-events/ennio-morricone-tribute-milan-tickets/var/ri-1.l
 -L1
URL:https://ticketsoperamilan.com/tickets-and-events/ennio-morricone-tribute-milan-tickets/var/ri-1.l-L1
END:VEVENT
END:VCALENDAR