BEGIN:VCALENDAR
VERSION:2.0
PRODID:-//eventon.com NONSGML v1.0//EN
CALSCALE:GREGORIAN
METHOD:PUBLISH
BEGIN:VEVENT
UID:69e6ea80a4f83
DTSTAMP:20260421T030952Z
DTSTART:20260301T200000Z
DTEND:20260301T220000Z
LOCATION:Teatro alla Scala Milan Via Filodrammatici 2\,  20121 Milan MI\,  Italy
SUMMARY:Das Rheingold
DESCRIPTION:🎭 Das Rheingold by Richard Wagner – Teatro alla Scala\,  M
 ilan (March 1–10\,  2026) Experience the magic of Richard Wagner’s Das 
 Rheingold (The Rhinegold) live at the legendary Teatro alla Scala in Milan.
  From March 1 to 10\,  2026\,  the curtain rises on the first chapter of Wa
 gner’s monumental Der[..]\nhttps://ticketsoperamilan.com/tickets-and-even
 ts/das-rheingold-scala-milan-tickets/
URL:https://ticketsoperamilan.com/tickets-and-events/das-rheingold-scala-milan-tickets/
END:VEVENT
END:VCALENDAR