BEGIN:VCALENDAR
VERSION:2.0
PRODID:-//eventon.com NONSGML v1.0//EN
CALSCALE:GREGORIAN
METHOD:PUBLISH
BEGIN:VEVENT
UID:69e6ea81213ef
DTSTAMP:20260421T030953Z
DTSTART:20260421T200000Z
DTEND:20260421T220000Z
LOCATION:Teatro alla Scala Milan Via Filodrammatici 2\,  20121 Milan MI\,  Italy
SUMMARY:Turandot
DESCRIPTION:Tickets for Turandot Opera by Giacomo Puccini â€“ Teatro alla S
 cala\,  Milan (April 1â€“29\,  2026) Step into the enchanting world of Giac
 omo Pucciniâ€™s Turandot at the iconic Teatro alla Scala in Milan\,  from A
 pril 1 to 29\,  2026. This grand opera â€” Pucciniâ€™s final masterpiece â€
 ” combines drama\,  passion\,  and[..]\nhttps://ticketsoperamilan.com/ticke
 ts-and-events/turandot-scala-milan-tickets/var/ri-7.l-L1
URL:https://ticketsoperamilan.com/tickets-and-events/turandot-scala-milan-tickets/var/ri-7.l-L1
END:VEVENT
END:VCALENDAR