BEGIN:VCALENDAR
VERSION:2.0
PRODID:-//eventon.com NONSGML v1.0//EN
CALSCALE:GREGORIAN
METHOD:PUBLISH
BEGIN:VEVENT
UID:69e7886296a5a
DTSTAMP:20260421T142330Z
DTSTART:20261118T210000Z
DTEND:20261118T230000Z
LOCATION:Fabrique Milan Via Gaudenzio Fantoli\,  9\,  20138 Milano MI\,  Italia
SUMMARY:Portugal. The Man Milan
DESCRIPTION:🎸 Portugal. The Man Live in Milan 2026 Tickets | Fabrique Ge
 t ready for an unforgettable night of indie-rock\,  alternative hits\,  and
  electrifying live energy as Portugal. The Man perform in Milan on Friday\,
   March 13\,  2026\,  at the iconic Fabrique. Known worldwide for their gen
 re-blending sound and infectious melodies\, [..]\nhttps://ticketsoperamilan
 .com/tickets-and-events/portugal-the-man-milan-tickets/
URL:https://ticketsoperamilan.com/tickets-and-events/portugal-the-man-milan-tickets/
END:VEVENT
END:VCALENDAR