BEGIN:VCALENDAR
VERSION:2.0
PRODID:-//eventon.com NONSGML v1.0//EN
CALSCALE:GREGORIAN
METHOD:PUBLISH
BEGIN:VEVENT
UID:69e77302a0ea6
DTSTAMP:20260421T125218Z
DTSTART:20260523T210000Z
DTEND:20260523T230000Z
LOCATION:Fabrique Milan Via Gaudenzio Fantoli\,  9\,  20138 Milano MI\,  Italia
SUMMARY:LANY Milan
DESCRIPTION:LANY Live in Milan 2026 Tickets | Fabrique Get ready for a nigh
 t of dreamy pop-rock and heartfelt melodies as LANY\,  the internationally 
 acclaimed band\,  performs live in Milan on Saturday\,  May 23\,  2026\,  a
 t the renowned Fabrique. Known for their emotional lyrics\,  infectious hoo
 ks\,  and immersive live performances\,  LANY[..]\nhttps://ticketsoperamila
 n.com/tickets-and-events/lany-milan-tickets/
URL:https://ticketsoperamilan.com/tickets-and-events/lany-milan-tickets/
END:VEVENT
END:VCALENDAR