BEGIN:VCALENDAR
VERSION:2.0
PRODID:-//eventon.com NONSGML v1.0//EN
CALSCALE:GREGORIAN
METHOD:PUBLISH
BEGIN:VEVENT
UID:69e77312ad1ea
DTSTAMP:20260421T125234Z
DTSTART:20260522T210000Z
DTEND:20260522T230000Z
LOCATION:Fabrique Milan Via Gaudenzio Fantoli\,  9\,  20138 Milano MI\,  Italia
SUMMARY:bbno$ Milan
DESCRIPTION:🔥 bbno$ Live in Milan 2026 Tickets | Fabrique Get ready for 
 a night of high-energy hip-hop\,  clever lyrics\,  and infectious beats as 
 bbno$\,  the Canadian rap sensation\,  performs live in Milan on Friday\,  
 May 22\,  2026\,  at the iconic Fabrique. Known for his humorous wordplay\,
   catchy hooks\,  and viral[..]\nhttps://ticketsoperamilan.com/tickets-and-
 events/bbno-milan-tickets/
URL:https://ticketsoperamilan.com/tickets-and-events/bbno-milan-tickets/
END:VEVENT
END:VCALENDAR